BEGIN:VCALENDAR
VERSION:2.0
PRODID:-//FireCloud - ECPv6.0.13.1//NONSGML v1.0//EN
CALSCALE:GREGORIAN
METHOD:PUBLISH
X-WR-CALNAME:FireCloud
X-ORIGINAL-URL:https://www.fire-cloud.org
X-WR-CALDESC:Events for FireCloud
REFRESH-INTERVAL;VALUE=DURATION:PT1H
X-Robots-Tag:noindex
X-PUBLISHED-TTL:PT1H
BEGIN:VTIMEZONE
TZID:UTC
BEGIN:STANDARD
TZOFFSETFROM:+0000
TZOFFSETTO:+0000
TZNAME:UTC
DTSTART:20240101T000000
END:STANDARD
END:VTIMEZONE
BEGIN:VEVENT
DTSTART;TZID=UTC:20241108T190000
DTEND;TZID=UTC:20241108T220000
DTSTAMP:20260421T055455
CREATED:20230605T185708Z
LAST-MODIFIED:20240918T152800Z
UID:189-1731092400-1731103200@www.fire-cloud.org
SUMMARY:Angels Share whisky club
DESCRIPTION:Our popular whisky club has its next tasting session. As always\, this promises to be an evening of interesting drams and good company. Email us at enquiries@fire-cloud.org for all the details!
URL:https://www.fire-cloud.org/event/angels-share-whisky-club/
LOCATION:Our Holy Redeemer Church Hall\, South Bank Street\, Clydebank\, G81 1PH\, United Kingdom
ATTACH;FMTTYPE=image/jpeg:https://www.fire-cloud.org/wp-content/uploads/2023/06/Whisky-Image.jpg
END:VEVENT
END:VCALENDAR