BEGIN:VCALENDAR
VERSION:2.0
PRODID:-//FireCloud - ECPv6.0.13.1//NONSGML v1.0//EN
CALSCALE:GREGORIAN
METHOD:PUBLISH
X-WR-CALNAME:FireCloud
X-ORIGINAL-URL:https://www.fire-cloud.org
X-WR-CALDESC:Events for FireCloud
REFRESH-INTERVAL;VALUE=DURATION:PT1H
X-Robots-Tag:noindex
X-PUBLISHED-TTL:PT1H
BEGIN:VTIMEZONE
TZID:Europe/Dublin
BEGIN:DAYLIGHT
TZOFFSETFROM:+0000
TZOFFSETTO:+0100
TZNAME:IST
DTSTART:20250330T010000
END:DAYLIGHT
BEGIN:STANDARD
TZOFFSETFROM:+0100
TZOFFSETTO:+0000
TZNAME:GMT
DTSTART:20251026T010000
END:STANDARD
END:VTIMEZONE
BEGIN:VEVENT
DTSTART;TZID=Europe/Dublin:20250425T190000
DTEND;TZID=Europe/Dublin:20250425T230000
DTSTAMP:20260420T174043
CREATED:20240918T154248Z
LAST-MODIFIED:20240918T154251Z
UID:1648-1745607600-1745622000@www.fire-cloud.org
SUMMARY:FireCloud Pub Quiz 2025
DESCRIPTION:Our annual Pub Quiz Fundraiser is taking place tonight at Sharkey’s Bar in Glasgow! A great night out with all proceeds going to our charity! Tickets are £6. \n\n\n\nWe have incredible prizes for our silent auction as well as a raffle and stand-up bingo with the quiz winners taking home £100 cash! Of course you could be lucky enough to lift our legendary pineapple…something for everyone to win! \n\n\n\nStrict maximum of six people per team. Over 18s only. Remember your ID for all those lucky enough to look under 25. Bring your general knowledge pals along with you! \n\n\n\nIf you would like to grab a bite to eat please make sure you at Sharkey’s Bar before the quiz as last orders for food are at 6:30pm. We will provide snacks on the table but know that people might want proper pub grub before the quiz starts.
URL:https://www.fire-cloud.org/event/firecloud-pub-quiz-2025/
ATTACH;FMTTYPE=image/jpeg:https://www.fire-cloud.org/wp-content/uploads/2024/04/1110823-1.jpeg
END:VEVENT
END:VCALENDAR